BEGIN:VCALENDAR
VERSION:2.0
PRODID:-//Eventin//Event Calendar//EN
CALSCALE:GREGORIAN
METHOD:PUBLISH
BEGIN:VEVENT
UID:c3e19572a7f726fb7fd12df0d3422653@calaw.in
SUMMARY:SR. CHAVARA MOOT COURT COMPETITION
DESCRIPTION:
LOCATION:Christ Academy Auditorium
DTSTAMP:20260424T125636Z
DTSTART:20260426T110000Z
DTEND:20260426T190000Z
END:VEVENT
END:VCALENDAR
