BEGIN:VCALENDAR
VERSION:2.0
PRODID:-//Eventin//Event Calendar//EN
CALSCALE:GREGORIAN
METHOD:PUBLISH
BEGIN:VEVENT
UID:aba9b2e17b87d5736a36b3b57c6c1904@calaw.in
SUMMARY:JEEVAN JYOTHI
DESCRIPTION:
LOCATION:Government School\, Koppa Gate
DTSTAMP:20260424T125206Z
DTSTART:20260430T140000Z
DTEND:20260430T180000Z
END:VEVENT
END:VCALENDAR
