BEGIN:VCALENDAR
VERSION:2.0
PRODID:-//Eventin//Event Calendar//EN
CALSCALE:GREGORIAN
METHOD:PUBLISH
BEGIN:VEVENT
UID:7a99b054d2309b47f132c1ac0668b560@calaw.in
SUMMARY:NYAYYA SHRADDHA
DESCRIPTION:Legal rights and duties awareness program on empowering voices 
 celebrating justice.
LOCATION:Koppa Village
DTSTAMP:20260424T140641Z
DTSTART:20260427T113000Z
DTEND:20260427T200000Z
END:VEVENT
END:VCALENDAR
